BEGIN:VCALENDAR
VERSION:2.0
PRODID:-//U. S. Naval Undersea Museum - ECPv6.15.20//NONSGML v1.0//EN
CALSCALE:GREGORIAN
METHOD:PUBLISH
X-WR-CALNAME:U. S. Naval Undersea Museum
X-ORIGINAL-URL:https://navalunderseamuseum.org
X-WR-CALDESC:Events for U. S. Naval Undersea Museum
REFRESH-INTERVAL;VALUE=DURATION:PT1H
X-Robots-Tag:noindex
X-PUBLISHED-TTL:PT1H
BEGIN:VTIMEZONE
TZID:America/Los_Angeles
BEGIN:DAYLIGHT
TZOFFSETFROM:-0800
TZOFFSETTO:-0700
TZNAME:PDT
DTSTART:20250309T100000
END:DAYLIGHT
BEGIN:STANDARD
TZOFFSETFROM:-0700
TZOFFSETTO:-0800
TZNAME:PST
DTSTART:20251102T090000
END:STANDARD
BEGIN:DAYLIGHT
TZOFFSETFROM:-0800
TZOFFSETTO:-0700
TZNAME:PDT
DTSTART:20260308T100000
END:DAYLIGHT
BEGIN:STANDARD
TZOFFSETFROM:-0700
TZOFFSETTO:-0800
TZNAME:PST
DTSTART:20261101T090000
END:STANDARD
BEGIN:DAYLIGHT
TZOFFSETFROM:-0800
TZOFFSETTO:-0700
TZNAME:PDT
DTSTART:20270314T100000
END:DAYLIGHT
BEGIN:STANDARD
TZOFFSETFROM:-0700
TZOFFSETTO:-0800
TZNAME:PST
DTSTART:20271107T090000
END:STANDARD
END:VTIMEZONE
BEGIN:VEVENT
DTSTART;TZID=America/Los_Angeles:20260502T100000
DTEND;TZID=America/Los_Angeles:20260502T140000
DTSTAMP:20260419T173614
CREATED:20260319T212129Z
LAST-MODIFIED:20260319T212443Z
UID:10000006-1777716000-1777730400@navalunderseamuseum.org
SUMMARY:Science Saturday
DESCRIPTION:Science Saturday returns the first Saturday of the month\, May 2\, from 10:00 AM until 2:00 PM. This month’s theme is programming and sequencing. Participants will explore programming instruction sequences through games and challenges. Science Saturday is a free educational program designed for active learning\, exploration\, and to inspire creative thinking and problem solving. Science Saturday is appropriate for K-12th grade learners
URL:https://navalunderseamuseum.org/event/science-saturday-2/
LOCATION:U.S. Naval Undersea Museum\, 1 Garnett Way\, Keyport\, WA\, 98345\, United States
END:VEVENT
BEGIN:VEVENT
DTSTART;TZID=America/Los_Angeles:20260517T140000
DTEND;TZID=America/Los_Angeles:20260517T150000
DTSTAMP:20260419T173614
CREATED:20260304T005023Z
LAST-MODIFIED:20260319T214244Z
UID:10000002-1779026400-1779030000@navalunderseamuseum.org
SUMMARY:Navy Band Northwest Concert
DESCRIPTION:Navy Band Northwest Woodwind Quintet\nNavy Band Northwest is a force of active duty musicians who perform free of charge to the public and to support the Navy’s mission and special events. The band’s spring 2026 concert series concludes on Sunday\, May 17 at 2:00 PM\, with the Woodwind Quintet performing. Seating is first come\, first served.
URL:https://navalunderseamuseum.org/event/navy-band-northwest-concert-2/
LOCATION:U.S. Naval Undersea Museum\, 1 Garnett Way\, Keyport\, WA\, 98345\, United States
END:VEVENT
END:VCALENDAR