BEGIN:VCALENDAR
VERSION:2.0
PRODID:-//U. S. Naval Undersea Museum - ECPv6.15.20//NONSGML v1.0//EN
CALSCALE:GREGORIAN
METHOD:PUBLISH
X-ORIGINAL-URL:https://navalunderseamuseum.org
X-WR-CALDESC:Events for U. S. Naval Undersea Museum
REFRESH-INTERVAL;VALUE=DURATION:PT1H
X-Robots-Tag:noindex
X-PUBLISHED-TTL:PT1H
BEGIN:VTIMEZONE
TZID:America/Los_Angeles
BEGIN:DAYLIGHT
TZOFFSETFROM:-0800
TZOFFSETTO:-0700
TZNAME:PDT
DTSTART:20250309T100000
END:DAYLIGHT
BEGIN:STANDARD
TZOFFSETFROM:-0700
TZOFFSETTO:-0800
TZNAME:PST
DTSTART:20251102T090000
END:STANDARD
BEGIN:DAYLIGHT
TZOFFSETFROM:-0800
TZOFFSETTO:-0700
TZNAME:PDT
DTSTART:20260308T100000
END:DAYLIGHT
BEGIN:STANDARD
TZOFFSETFROM:-0700
TZOFFSETTO:-0800
TZNAME:PST
DTSTART:20261101T090000
END:STANDARD
BEGIN:DAYLIGHT
TZOFFSETFROM:-0800
TZOFFSETTO:-0700
TZNAME:PDT
DTSTART:20270314T100000
END:DAYLIGHT
BEGIN:STANDARD
TZOFFSETFROM:-0700
TZOFFSETTO:-0800
TZNAME:PST
DTSTART:20271107T090000
END:STANDARD
END:VTIMEZONE
BEGIN:VEVENT
DTSTART;TZID=America/Los_Angeles:20260419T140000
DTEND;TZID=America/Los_Angeles:20260419T150000
DTSTAMP:20260419T191727
CREATED:20260304T004848Z
LAST-MODIFIED:20260319T214500Z
UID:10000003-1776607200-1776610800@navalunderseamuseum.org
SUMMARY:Navy Band Northwest Concert
DESCRIPTION:Navy Band Northwest Jazz Band Concert\nNavy Band Northwest is a force of active duty musicians who perform free of charge to the public and to support the Navy’s mission and special events. The band’s 2026 concert series continues on Sunday\, April 19 at 2:00 PM\, with the Jazz Band performing. Seating is first come\, first served.
URL:https://navalunderseamuseum.org/event/navy-band-northwest-concert/
LOCATION:U.S. Naval Undersea Museum\, 1 Garnett Way\, Keyport\, WA\, 98345\, United States
END:VEVENT
BEGIN:VEVENT
DTSTART;TZID=America/Los_Angeles:20260411T100000
DTEND;TZID=America/Los_Angeles:20260411T140000
DTSTAMP:20260419T191727
CREATED:20260304T005421Z
LAST-MODIFIED:20260319T214003Z
UID:10000004-1775901600-1775916000@navalunderseamuseum.org
SUMMARY:Discover E Day
DESCRIPTION:We are celebrating Discover E Day with fun applications of science\, technology\, engineering\, and mathematics (STEM) in-person at the museum on Saturday\, April 11! More than a dozen unique activities\, demonstrations\, and experiments will be available throughout the museum\, with professional educators and engineers to engage in conversation.\n  \nActivities include:•  3D Printing•  Periscopes•  Machine Arms•  Paper Rockets•  Bot Programming•  Diving Bells•  Simple Machines•  Modular Robotics•  Snap Circuits•  Building Blocks•  Can Crusher•  Puzzles•  Maglev Levitator Vehicles•  Musical Instrument Petting Zoo and Concert from the Bremerton Symphony\n  \nParticipants may arrive any time during event hours. This fun learning event is FREE and open to the public!
URL:https://navalunderseamuseum.org/event/discover-e-day/
LOCATION:U.S. Naval Undersea Museum\, 1 Garnett Way\, Keyport\, WA\, 98345\, United States
END:VEVENT
BEGIN:VEVENT
DTSTART;TZID=America/Los_Angeles:20260404T100000
DTEND;TZID=America/Los_Angeles:20260404T140000
DTSTAMP:20260419T191727
CREATED:20260319T195250Z
LAST-MODIFIED:20260330T193507Z
UID:10000005-1775296800-1775311200@navalunderseamuseum.org
SUMMARY:Science Saturday
DESCRIPTION:Science Saturday returns the first Saturday of the month\, April 4\, from 10:00 AM until 2:00 PM. This month’s theme is robotics. Participants will explore robotic building blocks. Science Saturday is a free educational program designed for active learning\, exploration\, and to inspire creative thinking and problem solving. Science Saturday is appropriate for K-12th grade learners.
URL:https://navalunderseamuseum.org/event/science-saturday/
LOCATION:U.S. Naval Undersea Museum\, 1 Garnett Way\, Keyport\, WA\, 98345\, United States
END:VEVENT
BEGIN:VEVENT
DTSTART;TZID=America/Los_Angeles:20260315T140000
DTEND;TZID=America/Los_Angeles:20260315T153000
DTSTAMP:20260419T191728
CREATED:20260304T003751Z
LAST-MODIFIED:20260304T010627Z
UID:10000001-1773583200-1773588600@navalunderseamuseum.org
SUMMARY:Navy Band Northwest Concert
DESCRIPTION:Navy Band Northwest New Orleans-Style Brass Band Concert and Tacoma Vocal Standard Concert\nNavy Band Northwest AND the Tacoma Vocal Standard Perform! \nNavy Band Northwest is a force of active duty musicians who perform free of charge to the public and to support the Navy’s mission and special events. This concert will feature the New Orleans-Style Brass Band. \nFor the first time\, the Tacoma Vocal Standard will be joining Navy Band Northwest\, performing six patriotic songs. The Tacoma Vocal Standard belongs to the Barbershop Harmony Society and is the longest running men’s chorus in Washington State. \nWe hope you can join us for this new joint performance!
URL:https://navalunderseamuseum.org/event/11516/
LOCATION:U.S. Naval Undersea Museum\, 1 Garnett Way\, Keyport\, WA\, 98345\, United States
END:VEVENT
END:VCALENDAR